BEGIN:VCALENDAR
VERSION:2.0
METHOD:PUBLISH
BEGIN:VEVENT
UID:WILD_APRICOT_EVENT_917901_SESSION_1
DTSTART:20150315T213000Z
DTEND:20150317T070000Z
SUMMARY:Group Dynamics with Michael Grinder 2 Day Workshop
LOCATION:Sydney\, Australia
DESCRIPTION:http://abnlp.org.au/event-917901\n\n\nPost Conference Workshop\n  Ticket includes 2 day Group Dynamic workshop with Michael Grinder on 16 & 17 March 2015.\n  Venue: Vibe Hotel - Sydney\, CBD \n  Time: 8:30am to 6:00pm each day\n  \n\n
DTSTAMP:20190228T152114Z
END:VEVENT
END:VCALENDAR
