BEGIN:VCALENDAR
VERSION:2.0
METHOD:PUBLISH
BEGIN:VEVENT
UID:WILD_APRICOT_EVENT_917900_SESSION_1
DTSTART:20150313T213000Z
DTEND:20150315T070000Z
SUMMARY:2015 ABNLP Conference
LOCATION:Sydney\, Australia
DESCRIPTION:http://abnlp.org.au/event-917900\n\nTickets include two full-day access to the 2015 ABNLP Conference\, a participant workbook\,and lunch both days.\n  Venue: Sheraton on the Park - Sydney\, CBD \n\n  Time: 8:30am to 6:00pm each day\n  \n\n  \n\n  \n\n
DTSTAMP:20190228T152125Z
END:VEVENT
END:VCALENDAR
