BEGIN:VCALENDAR
VERSION:2.0
METHOD:PUBLISH
BEGIN:VEVENT
UID:WILD_APRICOT_EVENT_911839_SESSION_1
DTSTART:20140619T090000Z
DTEND:20140619T100000Z
SUMMARY:Using NLP with Chakras - ABNLP Webinar Jun 2014
LOCATION:Online - Live & Recorded
DESCRIPTION:http://abnlp.org.au/event-911839\n\n  Using NLP with Chakras\n with Antoniette Gomez\n   \n    This webinar will explore how NLP and the Chakras can be used as a platform for personal development. You will gain an understating of the Chakras and how together NLP and a focused mindset can be used to increase the energy flow across your chakras and assist you to create rapid\, measurable and sustainable results in all areas of life.\n \n Antoniette Gomez is the founder and Director of Exhale Consulting Group and is a highly sought after facilitator and coach. She is an NLP Master Practitioner and Trainer and the author of Chakra Mindset\, where she has combined NLP principles and chakra consciousness to create a personal development program to help open the chakras and create a condition of health and harmony in the body\, mind and spirit.\n  \n  \n  Register Now\n \n Members - Watch past webinars\n
DTSTAMP:20190228T153220Z
END:VEVENT
END:VCALENDAR
