BEGIN:VCALENDAR
VERSION:2.0
METHOD:PUBLISH
BEGIN:VEVENT
UID:WILD_APRICOT_EVENT_889622_SESSION_1
DTSTART:20140928T030000Z
DTEND:20140928T060000Z
SUMMARY:NLP Focus Group
LOCATION:Bondi\, NSW
DESCRIPTION:http://abnlp.org.au/event-889622\n\nTime:  1pm – 4pm\n  Location:  Bondi\, NSW\n  Cost:  $25 early bird (when paid in full 7 days prior)\n  $35 on the door\n  Master your skills.  Experiment with like-minded people.  Gain more Confidence in your abilities.\n  Our NLP focus groups are opened to all levels of certified Practitioners\, Master Practitioner and Trainers.\n  A relaxed and friendly atmosphere where you can feel comfortable revising\, practising and experimenting with your knowledge and techniques.\n  You are encouraged to prepare prior to every session to ensure you get the most value out of your experience.\n  Reserve your seat and take advantage of the early-bird price of $25 or pay $35 on the door.\n  Once you have confirmed you will receive further information the subject we will be focusing on as well as some tips\, hints and questions to expand your thinking.\n  All enquiries are welcome\, call directly or visit website www.octavian.biz\n  Facilitators Details\n  Deborah Edwards – 0402 623 375\n
DTSTAMP:20190228T152640Z
END:VEVENT
END:VCALENDAR
