BEGIN:VCALENDAR
VERSION:2.0
METHOD:PUBLISH
BEGIN:VEVENT
UID:WILD_APRICOT_EVENT_889614_SESSION_1
DTSTART:20140610T090000Z
DTEND:20140610T103000Z
SUMMARY:Online NLP Practice Group
LOCATION:Online
DESCRIPTION:http://abnlp.org.au/event-889614\n\nLets practice with technology!  It's time to practice your NLP skills!\n     Dr. Heidi Heron runs this online practice group.             Each month we will discuss and demonstrate a different tool of NLP using webcam\, video and other online media. Participants will be split into smaller breakout groups to practice the techniques with each other. If you have a webcam\, upto 6 people can be 'displayed' at once. A computer/tablet with headphone and a microphone is required. Hosted and facilitated by Dr. Heidi Heron  from NLP Worldwide        * Online Event\n\n        * 2nd Tuesday of each month from 7:00 to 8:30pm\n\n        * Cost: $15 for ABNLP Members\, $25 for non-members\n\n\n  Register: https://nlpworldwide.acuityscheduling.com/schedule.php?appointmentType=128078\n\n  Registration is required -  email Heidi on heidi@nlpworldwide.com\n\n
DTSTAMP:20190228T153317Z
END:VEVENT
END:VCALENDAR
