BEGIN:VCALENDAR
VERSION:2.0
METHOD:PUBLISH
BEGIN:VEVENT
UID:WILD_APRICOT_EVENT_889605_SESSION_1
DTSTART:20140709T093000Z
DTEND:20140709T113000Z
SUMMARY:NLP Victoria Meeting
LOCATION:Melbourne\, VIC
DESCRIPTION:http://abnlp.org.au/event-889605\n\nNLP Study Group - Melbourne\, VIC  It's time to learn something new!\n\n  Here is your chance to continue to learn something new\, practice your NLP skills and meet other NLPers.\n  This group meets once per month\, generally on the 2nd Wednesday of the month and has a guest speaker.\n\n  Topic this month: topic to be confirmed\n\n      * Venue: The Elsternwick Club\, 19 Sandham St.\n\n        * Cost: $15 for ABNLP Members\, $20 for non-members\n\n\n\n
DTSTAMP:20190228T153112Z
END:VEVENT
END:VCALENDAR
