BEGIN:VCALENDAR
VERSION:2.0
METHOD:PUBLISH
BEGIN:VEVENT
UID:WILD_APRICOT_EVENT_889601_SESSION_1
DTSTART:20140903T083000Z
DTEND:20140903T100000Z
SUMMARY:NLP Practice Group
LOCATION:Richmond\, VIC
DESCRIPTION:http://abnlp.org.au/event-889601\n\n               ome along to explore\, play and immerse in NLP on the first Wednesday of every month.\n       \n       6:30pm through 8:00pm. Suite 5\, 53 Coppin Street\, Richmond \n        Cost: $10 (Nibbles & Drinks) \n\n        Contact Amanda Mallia by clicking through this link:\n        http://nlppractice.eventbrite.com.au/\n\n         
DTSTAMP:20190228T152813Z
END:VEVENT
END:VCALENDAR
