BEGIN:VCALENDAR
VERSION:2.0
METHOD:PUBLISH
BEGIN:VEVENT
UID:WILD_APRICOT_EVENT_889575_SESSION_1
DTSTART:20140903T080000Z
DTEND:20140903T093000Z
SUMMARY:NLP Practice Group
LOCATION:Perth\, WA
DESCRIPTION:http://abnlp.org.au/event-889575\n\n Bi-Monthly practice group run by Dynamic Creation. They are run on the 1st Wednesday of uneven months. For more info please visit their website or call  1300 760 307. Cost $30
DTSTAMP:20190228T152825Z
END:VEVENT
END:VCALENDAR
