BEGIN:VCALENDAR
VERSION:2.0
METHOD:PUBLISH
BEGIN:VEVENT
UID:WILD_APRICOT_EVENT_854677_SESSION_1
DTSTART:20140724T090000Z
DTEND:20140724T100000Z
SUMMARY:mBraining- ABNLP Webinar Jul 2014
LOCATION:Online - Live & Recorded
DESCRIPTION:http://abnlp.org.au/event-854677\n\n  mBraining\n with Enrico Crosina\n  On this webinar you will learn how to use our three intelligences or brains to help us to:\n   - create better decision making\,\n   - have more congruence with our values and dreams and\n   - gain a deeper level of wisdom to make a bigger difference out in the world.\n\n  About Your Speaker:\n  Enrico’s personal background starts in the hospitality industry where he worked in his family’s business for about 20 years in Italy. In the same period\, and for few years\, he has been a successful sportsman and champion in his native country.\n  Unfortunately after starting his first IT company in 1997\, his father’s company went bankrupt\, bringing him and his young family under years of severe and heavy struggles and pain. His solid core values and courage helped him to keep playing the game of life in the face of the challenges and to start again a new company.\n With this strong and successful background and his skills as a salesman he migrated to Australia in 2009.\n  Today\, Enrico Crosina is the founder and leader of "Be Your Leader Coaching"\, founded with the purpose to empower people to become sustainable and authentic leaders of themselves to inspire others and to discover their Compassion\, Courage and Creativity that will lead them to create and live an extraordinary life.\n  He is an mBIT certified Trainer\, Life Coach\, NLP Trainer\, Personal Leadership Coach & a student of human behaviour. \n  Register Now\n \n Members - Watch past webinars\n
DTSTAMP:20190228T153026Z
END:VEVENT
END:VCALENDAR
