BEGIN:VCALENDAR
VERSION:2.0
METHOD:PUBLISH
BEGIN:VEVENT
UID:WILD_APRICOT_EVENT_854675_SESSION_1
DTSTART:20140821T090000Z
DTEND:20140821T100000Z
SUMMARY:Impact & Influence- ABNLP Webinar Aug 2014
LOCATION:Online - Live & Recorded
DESCRIPTION:http://abnlp.org.au/event-854675\n\n  Impact & Influence\n with Jo Wise\n  How to utilise and leverage NLP\n in the corporate world\n \n Jo Wise at www.stellarpoint.com.au has emerged as an inspirational and dynamic force in the corporate world\, helping organisations crack the code to leadership and business success.\n \n Through her workshops\, behavioural profiling\, consulting and coaching programs\, Jo adds outstanding value to organisations by delivering powerful approaches to help leaders thrive.  Jo knows your leaders and teams have what it takes\, and is ready to show you the way.\n \n *This webinar will help you:*\n \n · Understand how to successfully use NLP models in the corporate world\n \n ·  Help you support organisations and their leaders to drive results with NLP\n \n ·  Boost your confidence in applying powerful NLP strategies in the workplace\n  \n  Register Now\n \n Members - Watch past webinars\n
DTSTAMP:20190228T152838Z
END:VEVENT
END:VCALENDAR
