BEGIN:VCALENDAR
VERSION:2.0
METHOD:PUBLISH
BEGIN:VEVENT
UID:WILD_APRICOT_EVENT_854672_SESSION_1
DTSTART:20140522T090000Z
DTEND:20140522T100000Z
SUMMARY:How to Change Your Unconscious Blueprint- ABNLP Webinar May 2014
LOCATION:Online - Live & Recorded
DESCRIPTION:http://abnlp.org.au/event-854672\n\n  How to Change Your Unconscious Blueprint\n with Sue Lester\n  Sue is Head Transition Coach with her company\, Growing Content\, and author of “The Face Within: How to Change Your Unconscious Blueprint”. She’s spent the past 20 or so years curious as to why some people achieve their goals easily while so many others don’t\, seemingly self-sabotaging. Sue has travelled the globe\, working in education and social enterprise\, exploring ways of helping people break through their boundaries\, clarify and reach for their dreams consistently.\n  In over 2000 client hours and hundreds of case studies\, Sue has explored how our internal image of ourselves forms our unconscious blueprint. This unconscious programming can impact on your ability to develop healthy safe relationships\, build successful careers\, maintain healthy weight\, parent effectively and even to conceive naturally. Sue will be sharing how to identify and adjust your own unconscious blueprint. She will also discuss how your internal images of others could be sabotaging your relationships\, both personal and business.”\n   \n  Register Now\n \n Members - Watch past webinars\n
DTSTAMP:20190228T153413Z
END:VEVENT
END:VCALENDAR
