BEGIN:VCALENDAR
VERSION:2.0
METHOD:PUBLISH
BEGIN:VEVENT
UID:WILD_APRICOT_EVENT_854666_SESSION_1
DTSTART:20140424T090000Z
DTEND:20140424T100000Z
SUMMARY:Mindfulness & Mindset Mastery - ABNLP Webinar Apr 2014
LOCATION:Online - Live & Recorded
DESCRIPTION:http://abnlp.org.au/event-854666\n\n  Mindfulness & Mindset Mastery\n with Robert Gronbeck\n    Mindfulness Meditation explained explicitly via NLP strategy notation\n    Developing kinaesthetic intelligence\, awareness and regulation\n   .   Why controlling thoughts are impossible and what alternatives are better\n  .    How to ensure negative emotions don’t steal your attention\n   How to utilise the mindfulness state to perform change work\n    The three ingredients for building an unshakeable performance flow state\n   Why recent research findings from psychological neuroscience provides athletes\, students\, elderly and anyone with strategies to rewire their brains to overcome mental blocks and stay focused\n   The power of creating a mindset of equanimity and acceptance\n  Robert Gronbeck is a sport psychology specialist\, coach\, researcher and competitor. He is known for his initiative\, problem solving ability and his knowledge on sports psychology and club development.\n  Masterful Performances is his third major sports development project in Far North Queensland. His mission is to ready our youth and development athletes for the psychological challenge of professional sports. He has spoken at National Conferences in psychology\, consulted with athletes & coaches across many sports and levels and has been published on topics of psychological first aid\, coaching mastery\, and parent behaviours in sports.\n  He has researched empathy\, emotional intelligence\, career preference as well as self-control in eating and his focus on evidence-based practice instils confidence and gets results with those he works with.\n  Register Now\n \n Members - Watch past webinars\n
DTSTAMP:20190228T153615Z
END:VEVENT
END:VCALENDAR
