BEGIN:VCALENDAR
VERSION:2.0
METHOD:PUBLISH
BEGIN:VEVENT
UID:WILD_APRICOT_EVENT_850458_SESSION_1
DTSTART:20141002T140000Z
DTEND:20141005T140000Z
SUMMARY:NLP Superfest
LOCATION:Melbourne\, VIC
DESCRIPTION:http://abnlp.org.au/event-850458\n\n  \nNLP Superfest\n  30% Member Discount for the first 50 members to register before 31 March 2014\, then 10% discount for members after March 2014\n\n  Retrieve the ABNLP discount code\n  SuperFest is the one stop event\, first of its kind in Australia\, all access pass to getting an in-depth training with some of the best international NLP trainers in the world. We are taking training and upskilling to the ultimate level. Experience In-depth skill focused workshops with enterprising entrepreneurs and leaders\, at the Melbourne Exhibition and Convention Centre\, without the costs and inconvenience of needing to travel overseas.\n      * World’s top NLP Trainers and Best Selling Authors\n\n        * Bringing you one of the 3 founders of NLP (and this is his first time in Australia\, ever.)\n\n        * Interactive\, full body training that is doing focused\, to ensure that you are really acquiring high level skills\n\n        * Skill specific games (hone your skills in an interactive and fun environment\, which is shown to be the fastest way to learn)\n\n        * Bringing together 400+ of the most innovative and creative local minds to meet\, network and train\n\n   \n  What skills will I get?\n      * Advanced Metamodel (tracking thought processes through words) with Frank Pucelik\n\n        * MBraining (ultimate decision making strategies) with Marvin Oka\n\n        * Accelerated Modelling (replicating genius\, fast!) with Greg Layton\n\n        * Metaphors and Clean Language (understanding metaphors in communication) with Judy Rees\n\n        * Transformational Conversations (communication with influence) with James Tripp\n\n        * Influence and Clarity with Jamie Smart\n\n        * New Code – High performance states (Performing at maximum capacity under pressure) with Jules and Chris Collingwood\n\n        * Advanced NLP Skills with Laureli Blyth and Dr. Heidi Heron\n\n\n        * Improvisational NLP on the fly (use your skills\, anywhere!) with James Tsakalos\n\n        * AND MUCH MORE\n\n
DTSTAMP:20190228T152617Z
END:VEVENT
END:VCALENDAR
