BEGIN:VCALENDAR
VERSION:2.0
METHOD:PUBLISH
BEGIN:VEVENT
UID:WILD_APRICOT_EVENT_849589_SESSION_1
DTSTART:20140528T140000Z
DTEND:20140530T140000Z
SUMMARY:Happiness and It's Causes Conference
LOCATION:Sydney NSW
DESCRIPTION:http://abnlp.org.au/event-849589\n\n   \n    \nHappiness & Its Causes Conference\n\n    Retrieve the ABNLP 20% discount code\n    This is the key question that has motivated the development of a series of ground breaking conferences in Australia\, the UK\, the USA and Singapore and led to the establishment of the World Happiness Forum.\n   \n   Recent findings of both positive psychology and neuroscience hold the tantalising prospect that happiness can be enhanced by mental training.\n   \n   The World Happiness Forum is an international\, secular\, non-profit organisation established to promote a dialogue on the tools and techniques that can be drawn from science\, psychology\, philosophy\, economics and religion for the enhancement of human happiness.\n    Over 30 speakers\, interactive sessions and 7 workshops!\n\n http://www.happinessanditscauses.com.au/\n \n Download your Free E-Book: Extraordinary Speakers\n     \n 
DTSTAMP:20190228T153401Z
END:VEVENT
END:VCALENDAR
