BEGIN:VCALENDAR
VERSION:2.0
METHOD:PUBLISH
BEGIN:VEVENT
UID:WILD_APRICOT_EVENT_849426_SESSION_1
DTSTART:20140327T130000Z
DTEND:20140330T130000Z
SUMMARY:Clean Language and Symbolic Modelling
LOCATION:Hobard\, TAS
DESCRIPTION:http://abnlp.org.au/event-849426\n\n\nClean Language and Symbolic Modelling: Using metaphor as a mirror to see yourself and others\n  Retrieve the 20% discount code\n  To receive your discount email Zannie at zannie@cleanlanguage.co.uk<wbr> with your name and Membership Number\n  \n  Over the last 20 years Penny Tompkins and James Lawley have developed a unique way of facilitating people to make those subtle shifts in perception that lead to organic change and personal evolution. Their 'clean' approach\, Symbolic Modelling\, is based on David Grove's Clean Language and his innovative therapeutic work with people's self-created metaphor landscapes.\n \n What you can expect from this workshop:\n      * To experience emergent and experiential learning (rather than a traditional training).\n\n        * To witness a change process that requires the facilitator to have no desire for change!\n\n        * To explore what happens in the minds of two leaders in the field.\n\n        * To experience your own metaphor landscape on a personal development topic of your choice.\n\n        * Hands-on practice of facilitating others with skills-based coaching from Penny and James.\n\n        * To learn and/or to develop your modelling skills (you have them - you just may not know it yet).\n\n        * To discover how you can apply what you are observing and learning in your own work context.\n\n   \n  
DTSTAMP:20190228T153751Z
END:VEVENT
END:VCALENDAR
