BEGIN:VCALENDAR
VERSION:2.0
METHOD:PUBLISH
BEGIN:VEVENT
UID:WILD_APRICOT_EVENT_849420_SESSION_1
DTSTART:20140312T130000Z
DTEND:20140320T130000Z
SUMMARY:Online NLP Conference
LOCATION:Online
DESCRIPTION:http://abnlp.org.au/event-849420\n\n   \n   \n   Retrieve the 20% ABNLP discount code\n   \n   Online learning opportunity - watch live or recorded.\n   \n         NLP Planet is an international team of people who want to make a difference in this world. NLP Planet provides high quality online NLP education via live webinars with very professional trainers who represent highest values\, knowledge\, wisdom\, love and positive transformations. \n     \n     Our purpose is to bring AFFORDABLE\, INTERACTIVE\, and first GLOBAL NLP education to anyone who is interested straight to their home or office. The idea is make some of the BEST NLP education accessible to anyone anywhere!   \n 
DTSTAMP:20190228T153925Z
END:VEVENT
END:VCALENDAR
