BEGIN:VCALENDAR
VERSION:2.0
METHOD:PUBLISH
BEGIN:VEVENT
UID:WILD_APRICOT_EVENT_812352_SESSION_1
DTSTART:20140320T080000Z
DTEND:20140320T093000Z
SUMMARY:NLP Practice Group
LOCATION:Sunshine Coast\, QLD
DESCRIPTION:http://abnlp.org.au/event-812352\n\nPractice Group - Sunshine Coast  It's time to practice your NLP skills!\n  Here is your chance to practice some of your NLP skills\, learn something new and meet other NLPers.\n  This group runs monthly practice groups generally on the 3rd Thursday starting at 6pm and running approximately 2 hours.\n\n      * Venue: contact Nadine Love - nadine@themotivationalmentor.com\n\n        * Cost: $10 per person to cover room hire\n\n  At the meeting\, a different topic is discussed and practiced at each meeting. No matter if you use your NLP skills everyday or if you haven't used NLP in years - that's what this group is for!\n  Come and meet other NLPers\, learn a little\, share a little and use a little NLP. Or a lot!\n  See you there!\n  ps. knowledge of NLP is very useful for this event - we are practicing our skills here not teaching the skills. However\, if you'd like to come and 'see' what NLP is all about\, we'd love to share!\n\n
DTSTAMP:20190228T153826Z
END:VEVENT
END:VCALENDAR
