BEGIN:VCALENDAR
VERSION:2.0
METHOD:PUBLISH
BEGIN:VEVENT
UID:WILD_APRICOT_EVENT_812349_SESSION_1
DTSTART:20140419T020000Z
DTEND:20140419T034500Z
SUMMARY:NLP Practice Group
LOCATION:Brisbane\, QLD
DESCRIPTION:http://abnlp.org.au/event-812349\n\nEvery 3rd Saturday Month run by The Performance Institute. For information please visit their Facebook page or contact Paula on paula@theperformanceinstitue.com.au
DTSTAMP:20190228T153627Z
END:VEVENT
END:VCALENDAR
