BEGIN:VCALENDAR
VERSION:2.0
METHOD:PUBLISH
BEGIN:VEVENT
UID:WILD_APRICOT_EVENT_812343_SESSION_1
DTSTART:20140326T070000Z
DTEND:20140326T090000Z
SUMMARY:NLP Practice Group
LOCATION:Port Macquarie\, NSW
DESCRIPTION:http://abnlp.org.au/event-812343\n\n               Last Wednesday of the month\, 6-8pm. Venue TBA (central in Port Macquarie) Cost: $20 to cover venue and light dinner.\n\n        Contact Moira Maraun on 0421 306 255 for more info and venue\n         
DTSTAMP:20190228T153815Z
END:VEVENT
END:VCALENDAR
