BEGIN:VCALENDAR
VERSION:2.0
METHOD:PUBLISH
BEGIN:VEVENT
UID:WILD_APRICOT_EVENT_812338_SESSION_1
DTSTART:20140326T073000Z
DTEND:20140326T100000Z
SUMMARY:NLP Practice Group
LOCATION:Melbourne\, VIC
DESCRIPTION:http://abnlp.org.au/event-812338\n\n                Last Wednesday of the month run by 21st Century NLP. See the meetup website for more information or contact Dale on       dale@21stcenturynlp.com.au\n         
DTSTAMP:20190228T153803Z
END:VEVENT
END:VCALENDAR
