BEGIN:VCALENDAR
VERSION:2.0
METHOD:PUBLISH
BEGIN:VEVENT
UID:WILD_APRICOT_EVENT_812332_SESSION_1
DTSTART:20140319T073000Z
DTEND:20140319T083000Z
SUMMARY:Online Group Supervision
LOCATION:Online
DESCRIPTION:http://abnlp.org.au/event-812332\n\nOnline Group Supervision\n  NLP Practitioners & Master Practitioners who are working with clients will greatly benefit from working with a Mentor/Supervisor. Dr. Heidi Heron works with a monthly group online to discuss clients\, the use of NLP techniques\, how to develop your NLP skills and how best to develop unconscious competence with others.\n  In this online meeting prepare to discuss the present state and desired state of your clients and to add input to others on the call. Maximum of 6 participants per call.\n  A strong wifi internet connection is required along with a headset and optional webcam.\n  When: 3rd Wednesday of each month\n  Time: 6:30pm to 7:30pm\n  Cost: $79.00\n  Registration Required: https://nlpworldwide.acuityscheduling.com/schedule.php?appointmentType=130838 \n  Questions? Email Heidi Heron directly at Heidi@nlpworldwide.com  \n
DTSTAMP:20190228T153901Z
END:VEVENT
END:VCALENDAR
