BEGIN:VCALENDAR
VERSION:2.0
METHOD:PUBLISH
BEGIN:VEVENT
UID:WILD_APRICOT_EVENT_812243_SESSION_1
DTSTART:20140402T073000Z
DTEND:20140402T100000Z
SUMMARY:NLP Practice Group
LOCATION:Cremorne\, NSW
DESCRIPTION:http://abnlp.org.au/event-812243\n\n               NLPers - we want you to join us to experience NLP. This is a great established group of experienced NLP Practitioner and Master Practitioners.\n        We meet once per month on the 1st Wednesday from 6:30 until 9pm in Cremorne (near the Oaks). If you can't make it until after 6:30\, no worries!\n        This is more than a normal practice group - we will be experiencing different dimensions of NLP and the mind. If you are looking for a group of like-minded people to explore more NLP with\, we'd love to meet you soon.\n        For venue details\, please contact the event organiser: Marie Chandler at 0432  661 833\n         
DTSTAMP:20190228T153714Z
END:VEVENT
END:VCALENDAR
