BEGIN:VCALENDAR
VERSION:2.0
METHOD:PUBLISH
BEGIN:VEVENT
UID:WILD_APRICOT_EVENT_2242168_SESSION_1
DTSTART:20160616T090000Z
DTEND:20160616T100000Z
SUMMARY:ABNLP Webinar - Introducing mBraining
LOCATION:Online - Live & Recorded
DESCRIPTION:http://abnlp.org.au/event-2242168\n\n\n\n  Join us in May for a special webinar on mbraining\, Marvin Oka. \n  Spectacularly\, we have three brains. Three! The head brain\, the heart brain and the gut brain. Each is responsible for different functions of our physical and emotional well-being. \n  In this webinar we will be joined by co-developer of mBIT (Multiple Brain Integration Techniques) for a better understanding of these brains\, how they work together\, what happens when they are not aligned and Marvin will lead the group through a simple mBraining Technique. \n  \n     ABNLP Members - Watch past webinars\n 
DTSTAMP:20190228T150323Z
END:VEVENT
END:VCALENDAR
