BEGIN:VCALENDAR
VERSION:2.0
METHOD:PUBLISH
BEGIN:VEVENT
UID:WILD_APRICOT_EVENT_2186696_SESSION_1
DTSTART:20160517T080000Z
DTEND:20160517T100000Z
SUMMARY:Melbourne CBD NLP Practice Group
LOCATION:Melbourne\, Vic
DESCRIPTION:http://abnlp.org.au/event-2186696\n\nMelbourne Master Practitioner NLP\n      * This is for already qualified Master Practitioners to meet and develop their skills.\n\n        * Restricted to graduates in linguistics\, psychology\, master practitioners of NLP or holders of the Australian Graduate Certificate in NLP\n\n        * No recruitment for coaching\, no training course sales pitches\, and absolutely no Pharrel Williams’ “Happy”\n\n        * 1st & 3rd Tuesday of the month\, 6pm – 8pm\, CBD location. Register with the group for further details.\n\n        * http://www.meetup.com/Melbourne_Master_Practitioner_NLP/\n\n        * Contact Roy Taylor on 0402 580 338\n\n\n
DTSTAMP:20190228T150450Z
END:VEVENT
END:VCALENDAR
