BEGIN:VCALENDAR
VERSION:2.0
METHOD:PUBLISH
BEGIN:VEVENT
UID:WILD_APRICOT_EVENT_2130252_SESSION_1
DTSTART:20160420T083000Z
DTEND:20160420T093000Z
SUMMARY:NLP Practice Group
LOCATION:Perth\, WA
DESCRIPTION:http://abnlp.org.au/event-2130252\n\n Bi-Monthly practice group run by The Inspiration Factory. They are run on the 3rd Wednesday of month. For more info please www.theinspirationfactory.com.au  or call  1300 161 175. Cost $30
DTSTAMP:20190228T150555Z
END:VEVENT
END:VCALENDAR
