BEGIN:VCALENDAR
VERSION:2.0
METHOD:PUBLISH
BEGIN:VEVENT
UID:WILD_APRICOT_EVENT_2130238_SESSION_1
DTSTART:20160713T080000Z
DTEND:20160713T093000Z
SUMMARY:NLP Practice Group
LOCATION:Sydney\, CBD
DESCRIPTION:http://abnlp.org.au/event-2130238\n\nPractice Group - Sydney CBD  It's time to practice your NLP skills!\n  Here is your chance to practice some of your NLP skills\, learn something new and meet other NLPers.\n  Each month we have two Practice Groups: on the 2nd Wednesday of each month starting at 6:00pm.\n  The Practice Groups are being held at the NLP Training Centre located at Level 9\, 143 York Street - opposite the QVB near Town Hall. When you arrive\, please ring 90 on the intercom at street level and we will open the glass doors for you.\n  At the meeting\, you will be using your NLP skills to coach and be coached by another NLP Practitioner or Master Practitioner. There is a prerequisite of having completed your NLP Certification training to attend this Practice Group.\n  NLP Master Practitioners & Trainers Des Lowe and Craig Woolven are the facilitators of this group\, they are both very skilled at using their NLP skills and will help you to further develop your own!\n  See you there!\n  FACILITATOR CONTACT INFO:\n\n      * Des Lowe - 0421 817 442 \n\n\n
DTSTAMP:20190228T150249Z
END:VEVENT
END:VCALENDAR
