BEGIN:VCALENDAR
VERSION:2.0
METHOD:PUBLISH
BEGIN:VEVENT
UID:WILD_APRICOT_EVENT_2130159_SESSION_1
DTSTART:20160319T010000Z
DTEND:20160319T024500Z
SUMMARY:NLP Practice Group
LOCATION:Brisbane\, QLD
DESCRIPTION:http://abnlp.org.au/event-2130159\n\nEvery 3rd Saturday Month run by The Performance Institute. For information please visit their Facebook page or contact Paula on paula@theperformanceinstitue.com.au
DTSTAMP:20190228T150701Z
END:VEVENT
END:VCALENDAR
