BEGIN:VCALENDAR
VERSION:2.0
METHOD:PUBLISH
BEGIN:VEVENT
UID:WILD_APRICOT_EVENT_1948493_SESSION_1
DTSTART:20150616T093000Z
DTEND:20150616T093000Z
SUMMARY:Melbourne NLP Practice Group
LOCATION:Armadale Melbourne Vic
DESCRIPTION:http://abnlp.org.au/event-1948493\n\nArmadale Chiropractic Clinic\,\n  880 High Street \n  Armadale\n  \n\n    Date:       16 June 2015 - 7.30 to 9.30 pm\n   \n  Topic:      NLP and languaging\n   \n  This will be open to anyone who is involved in\, or has an interest in NLP\, or perhaps someone who is merely curious. There will be no charge. For further information\, contact Jack Shearer on 0401 675 888.\n\n    \n\n
DTSTAMP:20190228T151721Z
END:VEVENT
END:VCALENDAR
