BEGIN:VCALENDAR
VERSION:2.0
METHOD:PUBLISH
BEGIN:VEVENT
UID:WILD_APRICOT_EVENT_1939793_SESSION_1
DTSTART:20150721T081800Z
DTEND:20150721T081800Z
SUMMARY:NLP Practice group
LOCATION:Caringbah NSW
DESCRIPTION:http://abnlp.org.au/event-1939793\n\nCaringbah - Health HUB  Level 1\, 191 Taren Point Rd\, Caringbah \n\n  Every 3rd Tuesday of the month at 6.30pm.\n  \n\n   Contact  Tammy - 0425 209 677\n\n
DTSTAMP:20190228T151505Z
END:VEVENT
END:VCALENDAR
