BEGIN:VCALENDAR
VERSION:2.0
METHOD:PUBLISH
BEGIN:VEVENT
UID:WILD_APRICOT_EVENT_1919755_SESSION_1
DTSTART:20150521T090000Z
DTEND:20150521T100000Z
SUMMARY:Bringing together NLP\, meditation and yoga to super power your practice - ABNLP Webinar May 2015
LOCATION:Online - Live & Recorded
DESCRIPTION:http://abnlp.org.au/event-1919755\n\n  Bringing together NLP\, meditation and yoga to super power your practice\n\n  with Peter Radcliffe\n  About the speaker:\n\n  “For me NLP is a gateway to the mind as much as a set of useful tools to bring about a life you love”.\n  Peter Radcliffe is a highly experienced and well regarded NLP trainer who is fully certified by the Australian Board of NLP. He brings you the science of NLP though the lens of a calm mind to help bring peace\, happiness and joy to your life. Peter’s unique background as a Buddhist monk empowers the training to be so much more than an ordinary NLP course\, it becomes a journey in itself.\n  Born and raised in Adelaide\, Peter worked as an engineer for twenty years.  He became interested in the practices of different religions and studied elements of Buddhism\, Hinduism\, Christianity\, Sufism\, modern psychology and NLP. Peter travelled the world living and working for many years in the United Kingdom\, Middle East\, America\, Singapore\, Thailand\, Taiwan and throughout Australia.\n  In 1993 Peter spent time as a Buddhist monk in the rainforests of Thailand. During this period and since then\, he has completed many meditation retreats\, some up to as long as nine months in total solitary meditation.\n  Peter began coaching and teaching meditation to small groups in 2004. He left the corporate world behind in 2009 to teach meditation\, NLP\, and personal development full time. He is a qualified NLP Master Practitioner and has completed Trainers Training under Robert Dilts.\n  Peter is based on the Fleurieu Peninsula\, an hour south of Adelaide\, and is married with three young children.\n     \n   Register Now\n \n Members - Watch past webinars\n
DTSTAMP:20190228T151743Z
END:VEVENT
END:VCALENDAR
