BEGIN:VCALENDAR
VERSION:2.0
METHOD:PUBLISH
BEGIN:VEVENT
UID:WILD_APRICOT_EVENT_1874925_SESSION_1
DTSTART:20151118T073000Z
DTEND:20151118T093000Z
SUMMARY:NLP Practice Group
LOCATION:Gold Coast\, QLD
DESCRIPTION:http://abnlp.org.au/event-1874925\n\nDavid wright of Quantum Training Institute is now running monthly practice groups in Robina\, QLD.\n \n Details are 3rd Wednesday of every month - 6.30pm - 8.30pm (Free) @ Robina Community Centre - Robina\, Gold Coast -\n \n Register via the website www.quantumtraininginstitute.<wbr>com
DTSTAMP:20190228T151052Z
END:VEVENT
END:VCALENDAR
