BEGIN:VCALENDAR
VERSION:2.0
METHOD:PUBLISH
BEGIN:VEVENT
UID:WILD_APRICOT_EVENT_1874918_SESSION_1
DTSTART:20150617T083000Z
DTEND:20150617T103000Z
SUMMARY:NLP Practice Group
LOCATION:Gold Coast\, QLD
DESCRIPTION:http://abnlp.org.au/event-1874918\n\nDavid wright of Quantum Training Institute is now running monthly practice groups in Robina\, QLD.\n \n Details are 3rd Wednesday of every month - 6.30pm - 8.30pm (Free) @ Robina Community Centre - Robina\, Gold Coast -\n \n Register via the website www.quantumtraininginstitute.<wbr>com
DTSTAMP:20190228T151710Z
END:VEVENT
END:VCALENDAR
