BEGIN:VCALENDAR
VERSION:2.0
METHOD:PUBLISH
BEGIN:VEVENT
UID:WILD_APRICOT_EVENT_1874886_SESSION_1
DTSTART:20150819T083000Z
DTEND:20150819T093000Z
SUMMARY:NLP Practice Group
LOCATION:Perth\, WA
DESCRIPTION:http://abnlp.org.au/event-1874886\n\n Bi-Monthly practice group run by The Inspirational Factory. They are run on the 3rd Wednesday of month. For more info please visit their website or call  1300 161 175 or visit www.theinspirationfactory.com.au . Cost $30
DTSTAMP:20190228T151410Z
END:VEVENT
END:VCALENDAR
