BEGIN:VCALENDAR
VERSION:2.0
METHOD:PUBLISH
BEGIN:VEVENT
UID:WILD_APRICOT_EVENT_1874882_SESSION_1
DTSTART:20150520T083000Z
DTEND:20150520T093000Z
SUMMARY:NLP Practice Group
LOCATION:Perth\, WA
DESCRIPTION:http://abnlp.org.au/event-1874882\n\nBi-monthly  practice group run by The Inspiration Factory . They are run on the 3rd Wednesday of the month (May\, August\, October) . For more information please visit  http://theinspirationfactory.com.au/events/ or call  1300 161 175 Cost $30
DTSTAMP:20190228T151817Z
END:VEVENT
END:VCALENDAR
