BEGIN:VCALENDAR
VERSION:2.0
METHOD:PUBLISH
BEGIN:VEVENT
UID:WILD_APRICOT_EVENT_1874869_SESSION_1
DTSTART:20150919T020000Z
DTEND:20150919T034500Z
SUMMARY:NLP Practice Group
LOCATION:Brisbane\, QLD
DESCRIPTION:http://abnlp.org.au/event-1874869\n\nEvery 3rd Saturday Month run by The Performance Institute. For information please visit their Facebook page or contact Paula on paula@theperformanceinstitue.com.au
DTSTAMP:20190228T151242Z
END:VEVENT
END:VCALENDAR
