BEGIN:VCALENDAR
VERSION:2.0
METHOD:PUBLISH
BEGIN:VEVENT
UID:WILD_APRICOT_EVENT_1874864_SESSION_1
DTSTART:20150418T020000Z
DTEND:20150418T034500Z
SUMMARY:NLP Practice Group
LOCATION:Brisbane\, QLD
DESCRIPTION:http://abnlp.org.au/event-1874864\n\nEvery 3rd Saturday Month run by The Performance Institute. For information please visit their Facebook page or contact Paula on paula@theperformanceinstitue.com.au
DTSTAMP:20190228T151917Z
END:VEVENT
END:VCALENDAR
