BEGIN:VCALENDAR
VERSION:2.0
METHOD:PUBLISH
BEGIN:VEVENT
UID:WILD_APRICOT_EVENT_1869709_SESSION_1
DTSTART:20150326T080000Z
DTEND:20150326T090000Z
SUMMARY:The Meerkat and the Mole: Tapping into the Power of Positive Emotions - ABNLP Webinar Mar 2015
LOCATION:Online - Live & Recorded
DESCRIPTION:http://abnlp.org.au/event-1869709\n\n  The Meerkat and the Mole: Tapping into the Power of Positive Emotions\n  with Catherine Bell\n  In this exciting Webinar\, Catherine examines the important function that positive emotions play in creating transformation and how to harness them powerfully in your NLP Practice.         \n\n  About the speaker:\n  Catherine is the Director of Inspiration Leaders and specialises in bringing Positive Leadership to Australian workplaces. Catherine strives to bring out the best in business Leaders\; to nurture and educate them to stand taller and shine brighter\, and ultimately get in touch with their authentic strengths for a better life at work - and at home. She's passionate about achieving great results\, working with integrity and helping others shine!\n    Catherine is an NLP Trainer\, Peak Performance Coach and HeartMath 1:1 Provider with a strong background in Corporate HR. Her warm-hearted but no-nonsense approach has proven instrumental in breaking through barriers to change\, inspiring hundreds of business professionals from all walks of life over 15 years of 1:1 and group training and coaching.  Having recently moved to her dream home at the beach\, she's happily adopted the title of "Beach Babe" in 2015!\n  Register Now\n \n Members - Watch past webinars\n
DTSTAMP:20190228T152017Z
END:VEVENT
END:VCALENDAR
