BEGIN:VCALENDAR
VERSION:2.0
METHOD:PUBLISH
BEGIN:VEVENT
UID:WILD_APRICOT_EVENT_1781254_SESSION_1
DTSTART:20141203T070000Z
DTEND:20141203T083000Z
SUMMARY:NLP Practice Group
LOCATION:Perth\, WA
DESCRIPTION:http://abnlp.org.au/event-1781254\n\n Bi-Monthly practice group run by Dynamic Creation. They are run on the 1st Wednesday of uneven months. For more info please visit their website or call  1300 760 3071300 760 307. Cost $30
DTSTAMP:20190228T152410Z
END:VEVENT
END:VCALENDAR
