BEGIN:VCALENDAR
VERSION:2.0
METHOD:PUBLISH
BEGIN:VEVENT
UID:WILD_APRICOT_EVENT_1774774_SESSION_1
DTSTART:20141115T010000Z
DTEND:20141115T024500Z
SUMMARY:NLP Practice Group
LOCATION:Brisbane\, QLD
DESCRIPTION:http://abnlp.org.au/event-1774774\n\nEvery 3rd Saturday Month run by The Performance Institute. For information please visit their Facebook page or contact Paula on paula@theperformanceinstitue.com.au
DTSTAMP:20190228T152445Z
END:VEVENT
END:VCALENDAR
