BEGIN:VCALENDAR
VERSION:2.0
METHOD:PUBLISH
BEGIN:VEVENT
UID:WILD_APRICOT_EVENT_1748254_SESSION_1
DTSTART:20141016T010000Z
DTEND:20141016T020000Z
SUMMARY:What role does 'Perception' play in your Professional Development? - ABNLP Webinar Oct 2014
LOCATION:Online - Live & Recorded
DESCRIPTION:http://abnlp.org.au/event-1748254\n\n  What role does 'Perception' play in your Professional Development?\n  with Michael Grinder\nJoin Michael Grinder as he shares his overview of perception in professional development.  He will discuss and demonstrate: the four levels of perception and what are the over-arching questions for each level? And what cross-cultural adjustments have to be made to apply the axioms of perception? \n\n     Michael Grinder is a master of\, and renown expert in\, the power of influence undefined the science of non verbal communication\, non-verbal leadership\, group dynamics\, relationship building skills and presentation skills.\n   \n      This continues a series of webinars introducing the International Speakers that will be presenting at the 2015 ABNLP Conference.                \n   Register Now\n \n Members - Watch past webinars\n
DTSTAMP:20190228T152554Z
END:VEVENT
END:VCALENDAR
