BEGIN:VCALENDAR
VERSION:2.0
METHOD:PUBLISH
BEGIN:VEVENT
UID:WILD_APRICOT_EVENT_1742425_SESSION_1
DTSTART:20140919T080000Z
DTEND:20140919T090000Z
SUMMARY:Everything you wanted to know about modelling - ABNLP Webinar Sep 2014
LOCATION:Online - Live & Recorded
DESCRIPTION:http://abnlp.org.au/event-1742425\n\n  Everything you wanted to know about modelling but you didn't know who to ask!\n  with Penny Tompkins & James Lawley\n     Ever wondered what goes on in the minds of expert modellers? Despite 40 years of NLP there is still remarkably little on the how-to of the how-to-model. Not just the how to gather information but also what to do with it. And what about the art of acquisition\, how does that work?      \n      Penny Tompkins and James Lawley have used a dozen different kinds of NLP modelling methodologies over 20 years of modelling individuals\, groups and processes. Their modelling of brilliant psychotherapist David Grove is one of the major contributions to NLP in the last few decades. They have even developed a new way to model\, Symbolic Modelling. For them modelling is not an add-on. It is the basis of everything they do. From therapy to group facilitation to consultancy to research.      \n      After a brief review of the field of modelling\, the majority of the webinar with be a question and answer session of Penny and James' experience of modelling.      \n      This begins a series of webinars introducing the International Speakers that will be presenting at the 2015 ABNLP Conference.                \n   Register Now\n \n Members - Watch past webinars\n
DTSTAMP:20190228T152705Z
END:VEVENT
END:VCALENDAR
